BEGIN:VCALENDAR
VERSION:2.0
PRODID:-//Recreatie- &amp; Hertenboerderij De Weerd - kamperen + recreëren - ECPv6.15.20//NONSGML v1.0//EN
CALSCALE:GREGORIAN
METHOD:PUBLISH
X-WR-CALNAME:Recreatie- &amp; Hertenboerderij De Weerd - kamperen + recreëren
X-ORIGINAL-URL:https://hertenboerderij.nl
X-WR-CALDESC:Evenementen voor Recreatie- &amp; Hertenboerderij De Weerd - kamperen + recreëren
REFRESH-INTERVAL;VALUE=DURATION:PT1H
X-Robots-Tag:noindex
X-PUBLISHED-TTL:PT1H
BEGIN:VTIMEZONE
TZID:Europe/Helsinki
BEGIN:DAYLIGHT
TZOFFSETFROM:+0200
TZOFFSETTO:+0300
TZNAME:EEST
DTSTART:20220327T010000
END:DAYLIGHT
BEGIN:STANDARD
TZOFFSETFROM:+0300
TZOFFSETTO:+0200
TZNAME:EET
DTSTART:20221030T010000
END:STANDARD
BEGIN:DAYLIGHT
TZOFFSETFROM:+0200
TZOFFSETTO:+0300
TZNAME:EEST
DTSTART:20230326T010000
END:DAYLIGHT
BEGIN:STANDARD
TZOFFSETFROM:+0300
TZOFFSETTO:+0200
TZNAME:EET
DTSTART:20231029T010000
END:STANDARD
BEGIN:DAYLIGHT
TZOFFSETFROM:+0200
TZOFFSETTO:+0300
TZNAME:EEST
DTSTART:20240331T010000
END:DAYLIGHT
BEGIN:STANDARD
TZOFFSETFROM:+0300
TZOFFSETTO:+0200
TZNAME:EET
DTSTART:20241027T010000
END:STANDARD
END:VTIMEZONE
BEGIN:VEVENT
DTSTART;TZID=Europe/Helsinki:20230726T100000
DTEND;TZID=Europe/Helsinki:20230726T120000
DTSTAMP:20260420T112642
CREATED:20230720T083403Z
LAST-MODIFIED:20230720T083500Z
UID:2795-1690365600-1690372800@hertenboerderij.nl
SUMMARY:Rondleiding en kijken bij de herten (let op: bij voldoende deelname)
DESCRIPTION:Kom deze morgen naar de hertenboerderij om wat te horen en te zien van de herten. 100% kans om ‘wild’ te zien. \nWe vertellen over de herten\, laten wat zien en het gewei voelen\, filmpje van het hele jaar door. En natuurlijk gaan we de herten voeren. \nNa afloop kan er nog heerlijk genoten worden op onze boerderij (evt. onder het genot van een kopje koffie of thee € 1\,25 ) \n€ 5\,00 per persoon \nvooraf aanmelden via 0571-291996 of info@hertenboerderij.nl
URL:https://hertenboerderij.nl/agenda/rondleiding-en-kijken-bij-de-herten-let-op-bij-voldoende-deelname/
END:VEVENT
BEGIN:VEVENT
DTSTART;TZID=Europe/Helsinki:20230726T110000
DTEND;TZID=Europe/Helsinki:20230726T120000
DTSTAMP:20260420T112642
CREATED:20230714T121143Z
LAST-MODIFIED:20230714T121148Z
UID:2792-1690369200-1690372800@hertenboerderij.nl
SUMMARY:Alpaca wandelen (of op een ander tijdstip/dag)
DESCRIPTION:Altijd al willen kennismaken en wandelen met alpaca’s? Lees dan snel verder. VOORAF OPGEVEN \nWanneer: ook mogelijk op dinsdag t/m zaterdag. \nTijdsduur: programma duurt 1 uur\,  daarna vrij rondlopen/spelen.\nAanmelden: uiterlijk 24 uur van te voren mailen (info@hertenboerderij.nl) en anders even bellen (0571-291996). Aantal personen en leeftijd doorgeven.\nKosten: Alpaca wandelen €15\,00 p.p. Opgave: minimaal 2 personen die actief wandelen met de alpaca’s (er lopen altijd 2 alpaca’s mee). Er dient een begeleider/ouder mee te lopen als kinderen (tm 15 jaar) mee willen doen. Entree overige personen: € 7\,50 p.p. \nVoor wie: allen die goed ter been zijn (vanaf ong. 5 jaar)\nKleding: bij vochtig weer: waterdichte schoenen of laarzen aan. (afhankelijk van periode in het jaar)\nQua weer\, regen/droog: we kunnen altijd de tijd verschuiven. Blijft het regenen? Kom dan gezellig knuffelen en kijken bij onze andere dieren (voor gereduceerd tarief). \nEerst stellen wij jullie (u/jou en de alpaca’s) aan elkaar voor. Een ontspannen kennismaking met elkaar. Na het voorstelrondje leggen we uit hoe je het beste met een alpaca kunt wandelen. Zo wordt het een feestje voor allebei! En laten we niet vergeten om te voelen hoe zacht de wol is. \nDan op pad. Zoek de juiste route\, lees de weetjes en voer de alpaca’s op ons eigen terrein/camping/weiden.
URL:https://hertenboerderij.nl/agenda/alpaca-wandelen-of-op-een-ander-tijdstip-dag/
END:VEVENT
END:VCALENDAR